BEGIN:VCALENDAR
VERSION:2.0
CALSCALE:GREGORIAN
PRODID:-//Diputació de Barcelona//DibaCMS//EN
BEGIN:VEVENT
UID:1449
DTSTAMP:20260424T165338
DTSTART:20260424T094500
DTEND:20260424T110000
SUMMARY:Dinamització Gent Gran
LOCATION:
METHOD:PUBLISH
X-WR-CALNAME:olvan@olvan.cat
X-WR-TIMEZONE:Europe/Madrid
DESCRIPTION:
URI:https://www.olvan.cat/el-municipi/equipaments/reserva-dequipaments-i-sales/reserva-ateneu-dolvan/disponibilitat-ateneu-dolvan/1449-dinamitzacio-gent-gran.html
CLASS:PUBLIC
END:VEVENT
END:VCALENDAR
