BEGIN:VCALENDAR
VERSION:2.0
CALSCALE:GREGORIAN
PRODID:-//Diputació de Barcelona//DibaCMS//EN
BEGIN:VEVENT
UID:1492
DTSTAMP:20260424T174041
DTSTART:20260428T191500
DTEND:20260428T201500
SUMMARY:Ioga
LOCATION:
METHOD:PUBLISH
X-WR-CALNAME:olvan@olvan.cat
X-WR-TIMEZONE:Europe/Madrid
DESCRIPTION:
URI:https://www.olvan.cat/el-municipi/equipaments/reserva-dequipaments-i-sales/reserva-ateneu-dolvan/disponibilitat-ateneu-dolvan/1492-ioga.html
CLASS:PUBLIC
END:VEVENT
END:VCALENDAR
