BEGIN:VCALENDAR
VERSION:2.0
CALSCALE:GREGORIAN
PRODID:-//Diputació de Barcelona//DibaCMS//EN
BEGIN:VEVENT
UID:1514
DTSTAMP:20260424T163935
DTSTART:20260427T190000
DTEND:20260427T200000
SUMMARY:Hipo + tono
LOCATION:
METHOD:PUBLISH
X-WR-CALNAME:olvan@olvan.cat
X-WR-TIMEZONE:Europe/Madrid
DESCRIPTION:
URI:https://www.olvan.cat/el-municipi/equipaments/reserva-dequipaments-i-sales/reserva-local-social-de-cal-rosal/disponibilitat-local-social-cal-rosal/1514-hipo--tono.html
CLASS:PUBLIC
END:VEVENT
END:VCALENDAR
