BEGIN:VCALENDAR
VERSION:2.0
CALSCALE:GREGORIAN
PRODID:-//Diputació de Barcelona//DibaCMS//EN
BEGIN:VEVENT
UID:1856
DTSTAMP:20260424T170347
DTSTART:20260424T170000
DTEND:20260424T200000
SUMMARY:Assembla del Pla de Barris 
LOCATION:
METHOD:PUBLISH
X-WR-CALNAME:olvan@olvan.cat
X-WR-TIMEZONE:Europe/Madrid
DESCRIPTION:
URI:https://www.olvan.cat/el-municipi/equipaments/reserva-dequipaments-i-sales/reserva-ateneu-dolvan/disponibilitat-ateneu-dolvan/assembla-del-pla-de-barris-.html
CLASS:PUBLIC
END:VEVENT
END:VCALENDAR
