BEGIN:VCALENDAR
VERSION:2.0
CALSCALE:GREGORIAN
PRODID:-//Diputació de Barcelona//DibaCMS//EN
BEGIN:VEVENT
UID:1865
DTSTAMP:20260422T174221
DTSTART:20260423T000000
DTEND:20260423T000000
SUMMARY:Sant Jordi 2026 a Olvan
LOCATION:
METHOD:PUBLISH
X-WR-CALNAME:olvan@olvan.cat
X-WR-TIMEZONE:Europe/Madrid
DESCRIPTION:Arriba Sant Jordi i amb ell roses, llibres i lectures al carrer!

URI:https://www.olvan.cat/actualitat/agenda/sant-jordi-2026-a-olvan.html
CLASS:PUBLIC
END:VEVENT
END:VCALENDAR
