BEGIN:VCALENDAR
VERSION:2.0
CALSCALE:GREGORIAN
PRODID:-//Diputació de Barcelona//DibaCMS//EN
BEGIN:VEVENT
UID:1868
DTSTAMP:20260423T150834
DTSTART:20260426T080000
DTEND:20260426T160000
SUMMARY:Arriba la 1a edició de l'Olvanesa BTT!
LOCATION:
METHOD:PUBLISH
X-WR-CALNAME:olvan@olvan.cat
X-WR-TIMEZONE:Europe/Madrid
DESCRIPTION:
URI:https://www.olvan.cat/actualitat/agenda/arriba-la-1a-edicio-de-lolvanesa-btt.html
CLASS:PUBLIC
END:VEVENT
END:VCALENDAR
